BEGIN:VCALENDAR
VERSION:2.0
PRODID:icalendar-ruby
CALSCALE:GREGORIAN
METHOD:PUBLISH
BEGIN:VEVENT
DTSTAMP:20260421T214104Z
UID:8-1308984@oakgrovesalem.org
DTSTART:20261021T233000Z
DTEND:20261022T010000Z
CLASS:PUBLIC
CREATED:20260421T144831
DESCRIPTION:\n\nWe are excited to invite children (ages 3 years old - 6th g
 rade) to participate in the AWANA program at Oak Grove Baptist Church. AWA
 NA\, which stands for "Approved Workmen Are Not Ashamed" (2 Timothy 2:15)\
 , is a dynamic\, Bible-centered ministry designed to help kids develop a d
 eep love for God's Word\, grow in their faith\, and build strong moral cha
 racter in a fun\, engaging\, and supportive environment. Awana Clubs is b
 uilt on our 3B ministry philosophy of child discipleship: Belong\, Believe
 \, Become. Children build spiritual resilience when they feel they belong 
 to Jesus\, when they believe in the truth of the Bible and then become dis
 ciplemakers in their own right.\n\n\n 
LAST-MODIFIED:20260421T144831
LOCATION:
SUMMARY:AWANA 
URL;VALUE=URI:https://www.oakgrovesalem.org/events/awana/2026-10-21
ATTACH;FILENAME=awana-clubs-logo-color.jpg;FMTTYPE=image/jpeg:https://dq5pw
 pg1q8ru0.cloudfront.net/2024/08/22/16/06/37/7d82b8d4-b6a1-40c8-abd3-98e82b
 9e19b5/awana-clubs-logo-color.jpg
END:VEVENT
END:VCALENDAR
