BEGIN:VCALENDAR
VERSION:2.0
PRODID:icalendar-ruby
CALSCALE:GREGORIAN
METHOD:PUBLISH
BEGIN:VEVENT
DTSTAMP:20260421T194308Z
UID:25-1308884@oakgrovesalem.org
DTSTART:20260914T210000Z
DTEND:20260914T220000Z
CLASS:PUBLIC
CREATED:20260421T121215
DESCRIPTION:OPEN PICKELBSLL GYM
LAST-MODIFIED:20260421T121215
LOCATION:Gym
SUMMARY:OPEN PICKELBSLL GYM
URL;VALUE=URI:https://www.oakgrovesalem.org/events/open-pickelbsll-gym/2026
 -09-14
END:VEVENT
END:VCALENDAR
