BEGIN:VCALENDAR
VERSION:2.0
PRODID:icalendar-ruby
CALSCALE:GREGORIAN
METHOD:PUBLISH
BEGIN:VEVENT
DTSTAMP:20260421T211658Z
UID:25-1309472@oakgrovesalem.org
DTSTART:20260921T210000Z
DTEND:20260921T220000Z
CLASS:PUBLIC
CREATED:20260421T144832
DESCRIPTION:OPEN PICKELBSLL GYM
LAST-MODIFIED:20260421T144832
LOCATION:Gym
SUMMARY:OPEN PICKELBSLL GYM
URL;VALUE=URI:https://www.oakgrovesalem.org/events/open-pickelbsll-gym/2026
 -09-21
END:VEVENT
END:VCALENDAR
