BEGIN:VCALENDAR
VERSION:2.0
PRODID:icalendar-ruby
CALSCALE:GREGORIAN
METHOD:PUBLISH
BEGIN:VEVENT
DTSTAMP:20260421T224819Z
UID:25-1310060@oakgrovesalem.org
DTSTART:20260928T210000Z
DTEND:20260928T220000Z
CLASS:PUBLIC
CREATED:20260421T172634
DESCRIPTION:OPEN PICKELBSLL GYM
LAST-MODIFIED:20260421T172634
LOCATION:Gym
SUMMARY:OPEN PICKELBSLL GYM
URL;VALUE=URI:https://www.oakgrovesalem.org/events/open-pickelbsll-gym/2026
 -09-28
END:VEVENT
END:VCALENDAR
