BEGIN:VCALENDAR
VERSION:2.0
PRODID:icalendar-ruby
CALSCALE:GREGORIAN
METHOD:PUBLISH
BEGIN:VEVENT
DTSTAMP:20260422T003156Z
UID:25-1310061@oakgrovesalem.org
DTSTART:20261005T210000Z
DTEND:20261005T220000Z
CLASS:PUBLIC
CREATED:20260421T172634
DESCRIPTION:OPEN PICKELBSLL GYM
LAST-MODIFIED:20260421T172634
LOCATION:Gym
SUMMARY:OPEN PICKELBSLL GYM
URL;VALUE=URI:https://www.oakgrovesalem.org/events/open-pickelbsll-gym/2026
 -10-05
END:VEVENT
END:VCALENDAR
