BEGIN:VCALENDAR
VERSION:2.0
PRODID:icalendar-ruby
CALSCALE:GREGORIAN
METHOD:PUBLISH
BEGIN:VEVENT
DTSTAMP:20260422T054619Z
UID:25-1310651@oakgrovesalem.org
DTSTART:20261026T210000Z
DTEND:20261026T220000Z
CLASS:PUBLIC
CREATED:20260421T200522
DESCRIPTION:OPEN PICKELBSLL GYM
LAST-MODIFIED:20260421T200522
LOCATION:Gym
SUMMARY:OPEN PICKELBSLL GYM
URL;VALUE=URI:https://www.oakgrovesalem.org/events/open-pickelbsll-gym/2026
 -10-26
END:VEVENT
END:VCALENDAR
