BEGIN:VCALENDAR
VERSION:2.0
PRODID:icalendar-ruby
CALSCALE:GREGORIAN
METHOD:PUBLISH
BEGIN:VEVENT
DTSTAMP:20260422T054506Z
UID:10-1310267@oakgrovesalem.org
DTSTART:20260920T143000Z
DTEND:20260920T151500Z
CLASS:PUBLIC
CREATED:20260421T200521
DESCRIPTION:
LAST-MODIFIED:20260421T200521
LOCATION:
SUMMARY:Sunday School / Bible Fellowship
URL;VALUE=URI:https://www.oakgrovesalem.org/events/sunday-school-bible-fell
 owship/2026-09-20
END:VEVENT
END:VCALENDAR
