BEGIN:VCALENDAR
VERSION:2.0
PRODID:icalendar-ruby
CALSCALE:GREGORIAN
METHOD:PUBLISH
BEGIN:VEVENT
DTSTAMP:20260422T121059Z
UID:10-1310858@oakgrovesalem.org
DTSTART:20261018T143000Z
DTEND:20261018T151500Z
CLASS:PUBLIC
CREATED:20260422T071036
DESCRIPTION:
LAST-MODIFIED:20260422T071036
LOCATION:
SUMMARY:Sunday School / Bible Fellowship
URL;VALUE=URI:https://www.oakgrovesalem.org/events/sunday-school-bible-fell
 owship/2026-10-18
END:VEVENT
END:VCALENDAR
